Workbook

Sheet Main
A1: =D4 & " TIME ITEM STATUS" -> N970TB TIME ITEM STATUS
A3: Make | C3: Model | D3: Registration | F3: Serial Number | H3: Date of Manufacture
A4: TBM | C4: 940 | D4: N970TB | F4: 1389 | H4: 44455
A6: P&WC | C6: PT6A-66D | F6: RV0738
A7: Hartzell | C7: HC-E5N-3C | F7: RJ597
A9: Aircraft Total Time: | C9: =C11+0 -> 1241.2 | D9: Landings: | E9: =I9 -> 863 | F9: Date: | G9: 46295 | H9: Cycles: | I9: 863
A11: Hobbs Time | C11: 1241.2 | D11: Avg/Year | E11: =(MAX(G13:G16)-MIN(G13:G16))/3 -> 182.73333 | F11: Hrs Last Yr | G11: =C9-LARGE(G13:G16,1) -> 0 | H11: Updated | I11: 46282
A13: Inspection Cycle: | C13: A+ | D13: Date: | E13: 45176 | F13: Time: | G13: 693 | H13: Cycles: | I13: 544 | J13: =I13/G13 -> 0.78499278
C14: B+ | D14: Date: | E14: 46290 | F14: Time: | G14: 1241.2 | H14: Cycles: | I14: 863 | J14: =I14/G14 -> 0.69529488
C15: A+ | D15: Date: | E15: 45912 | F15: Time: | G15: 1097.1 | H15: Cycles: | I15: 797 | J15: =I15/G15 -> 0.72646067
C16: C+ | D16: Date: | E16: 45552 | F16: Time: | G16: 910.2 | H16: Cycles: | I16: 713 | J16: =I16/G16 -> 0.78334432
A18: Last Inspection: | C18: B+ | D18: Date: | E18: 46290 | F18: Time: | G18: 1241.2 | H18: Cycles: | I18: 863 | J18: =I18/G18 -> 0.69529488
A19: Next Inspection: | C19: A | D19: Due At: | E19: =G18+200 -> 1441.2 | F19: Time Remaining: | H19: =(G18+200)-C9 -> 200
A20: Next Inspection: | C20: A+ | D20: Due At: | E20: =E18+365 -> 46655 | F20: Time Remaining: | H20: =E20-G9 -> 360
A22: ="Engine Details " &F6 -> Engine Details RV0738
A23: Total Time: | C23: =C9 -> 1241.2 | D23: Total Cycles: | F23: =I9 -> 863 | G23: Engine Oil | H23: 560
A24: HSI Completed: | D24: Engine Total Time: | G24: Engine Cycles
A25: Overhaul Completed: | D25: Engine Total Time: | G25: Engine Cycles | I25: 0
A26: TSHSI | B26: N/A | C26: CYSHSI: | D26: N/A | E26: Time to HSI | F26: =1750-C9 -> 508.8
A27: TSOH | B27: N/A | C27: CYSOH: | D27: N/A | E27: Time to OH | F27: =3500-C23 -> 2258.8
A29: ="Propeller Details "& F7 -> Propeller Details RJ597
A30: Total Time: | C30: =C9 -> 1241.2 | D30: Date of Manufacture
A31: New | C31: 44455 | D31: Overhaul Due | F31: =C31+2190 -> 46645 | G31: Days Remaining | I31: =F31-G9 -> 350
D32: Overhaul Due | F32: =C32+4000 -> 4000 | G32: Hours Remaining | I32: =F32-C9 -> 2758.8
A33: Time Since Overhaul | C33: =C30-C32 -> 1241.2

Sheet Time Items
B1: =Main!D4 & " 2026 " & Main!C20 -> N970TB 2026 A+
B3: Model | D3: S/N | F3: Total Time | H3: Hobbs | J3: Cycles | K3: Projected
B4: =Main!C4 -> 940 | D4: =Main!F4 -> 1389 | F4: =Main!C9 -> 1241.2 | H4: =Main!C11 -> 1241.2 | J4: =Main!I9 -> 863 | K4: =Main!G9 -> 46295
H5: Time to OH | J5: Time to HSI
B6: =Main!C6 -> PT6A-66D | D6: =Main!F6 -> RV0738 | F6: =Main!C23 -> 1241.2 | H6: =Main!F27 -> 2258.8 | J6: =Main!F26 -> 508.8 | K6: Updated
B7: =Main!C7 -> HC-E5N-3C | D7: =Main!F7 -> RJ597 | F7: =Main!C30 -> 1241.2 | H7: =Main!F31 -> 46645 | K7: =Main!I11 -> 46282
A9: ITEM | B9: Parts | C9: Hrs | D9: INTERVAL | F9: COMPLIED | H9: NEXT DUE | J9: TIME REMAIN
A10: Column1 | B10: Column2 | C10: Column3 | D10: Column5 | E10: Column6 | F10: Column7 | G10: Column8 | H10: Column9 | I10: Column10 | J10: Column11 | K10: Column12
A11: ="Comply with " & Main!C20 & " inspection." -> Comply with A+ inspection. | C11: {=_xlfn.IFS(Main!$C$20="A+",59,Main!$C$20="B+",71,Main!$C$20="C+",101)} -> 59 | D11: 0.6 | E11: Yr | F11: =Main!$E$18 -> 46290 | H11: =F11+365 -> 46655 | J11: =H11-Main!$G$9 -> 360 | K11: Days
A12: Perform compressor wash. | C12: 1.5 | D12: 0.62 | E12: Yr | F12: =Main!$E$18 -> 46290 | H12: =F12+365 -> 46655 | J12: =H12-Main!$G$9 -> 360 | K12: Days
A13: Comply with all applicable 1 year special inspections. | C13: 1.5 | D13: 0.63 | E13: Yr | F13: =Main!$E$18 -> 46290 | H13: =F13+365 -> 46655 | J13: =H13-Main!$G$9 -> 360 | K13: Days
A14: Comply with 1 year Auto-Throttle functional check. | C14: 0.5 | D14: 1 | E14: Yr | F14: =Main!$E$18 -> 46290 | H14: =F14+365 -> 46655 | J14: =H14-Main!$G$9 -> 360 | K14: Days
A15: Comply with 1 year Beta Ring and Carbon Block inspection. | C15: 0.5 | D15: 1 | E15: Yr | F15: =Main!$E$18 -> 46290 | H15: =F15+365 -> 46655 | J15: =H15-Main!$G$9 -> 360 | K15: Days
A16: Comply with 1 year fire extinguisher inspection. | C16: 0.5 | D16: 1 | E16: Yr | F16: =Main!$E$18 -> 46290 | H16: =F16+365 -> 46655 | J16: =H16-Main!$G$9 -> 360 | K16: Days
A17: Comply with 1 year gaseous oxygen system inspection. | C17: 0.5 | D17: 1 | E17: Yr | F17: =Main!$E$18 -> 46290 | H17: =F17+365 -> 46655 | J17: =H17-Main!$G$9 -> 360 | K17: Days
A18: Comply with 1 year main battery capacity check. | C18: 1.5 | D18: 1 | E18: Yr | F18: =Main!$E$18 -> 46290 | H18: =F18+365 -> 46655 | J18: =H18-Main!$G$9 -> 360 | K18: Days
A19: Comply with 2 year outflow and safety valve seat inspection | C19: 1 | D19: 2 | E19: Yr | F19: 45912 | H19: =$F19+730 -> 46642 | J19: =H19-Main!$G$9 -> 347 | K19: Days
A20: Comply with 2 year IFR/RVSM certification. | C20: 8.8 | D20: 2 | E20: Yr | F20: 45912 | H20: =$F20+730 -> 46642 | J20: =H20-Main!$G$9 -> 347 | K20: Days
A21: Comply with 2 year light weight data recorder operational check. | C21: 1 | D21: 2 | E21: Yr | F21: 46290 | H21: =$F21+730 -> 47020 | J21: =H21-Main!$G$9 -> 725 | K21: Days
A22: Comply with 3 year replacement of brake reservoir fluid. | C22: 1.5 | D22: 3 | E22: Yr | F22: 45552 | H22: =$F22+1095 -> 46647 | J22: =H22-Main!$G$9 -> 352 | K22: Days
A23: Comply with 3 year replacement of hydraulic system fluid. | C23: 1.5 | D23: 3 | E23: Yr | F23: 45552 | H23: =$F23+1095 -> 46647 | J23: =H23-Main!$G$9 -> 352 | K23: Days
A24: Comply with 3 year replacement of shimmy damper fluid. | C24: 2 | D24: 3 | E24: Yr | F24: 45552 | H24: =$F24+1095 -> 46647 | J24: =H24-Main!$G$9 -> 352 | K24: Days
A25: Comply with 4 year, 1,500 hour inspection of fuel strainers and flapper valves. | C25: 5 | D25: 4 | E25: Yr | F25: 45912 | H25: =$F25+1460 -> 47372 | J25: =H25-Main!$G$9 -> 1077 | K25: Days
A26: Comply with 5 year main battery replacement. | C26: 1.5 | D26: 5 | E26: Yr | F26: 45176 | H26: =$F26+1825 -> 47001 | J26: =H26-Main!$G$9 -> 706 | K26: Days
A27: Comply with 5 year oxygen bottle hydrostatic test. | C27: 3 | D27: 5 | E27: Yr | F27: 46290 | H27: =$F27+1825 -> 48115 | J27: =H27-Main!$G$9 -> 1820 | K27: Days
A28: Comply with 5 year landing gear long life inspection. | C28: 12 | D28: 5 | E28: Yr | F28: 46290 | H28: =$F28+1825 -> 48115 | J28: =H28-Main!$G$9 -> 1820 | K28: Days
A29: Comply with 6 year pilot oxygen mask overhaul. | C29: 0.5 | D29: 6 | E29: Yr | F29: 44285 | H29: =$F29+2190 -> 46475 | J29: =H29-Main!$G$9 -> 180 | K29: Days
A30: Comply with 6 year co-pilot oxygen mask overhaul. | C30: 0.5 | D30: 6 | E30: Yr | F30: 44316 | H30: =$F30+2190 -> 46506 | J30: =H30-Main!$G$9 -> 211 | K30: Days
A31: Comply with 6 year propeller overhaul. | C31: 5 | D31: 6 | E31: Yr | F31: 44455 | H31: =$F31+2190 -> 46645 | J31: =H31-Main!$G$9 -> 350 | K31: Days
A32: Comply with 6 year altimetric valve overhaul. | C32: 5 | D32: 6 | E32: Yr | F32: 44316 | H32: =$F32+2190 -> 46506 | J32: =H32-Main!$G$9 -> 211 | K32: Days
A33: Comply with 7 year nose gear actuator hinge pin securing bolt replacement. | C33: 2 | D33: 7 | E33: Yr | F33: 44455 | H33: =$F33+2555 -> 47010 | J33: =H33-Main!$G$9 -> 715 | K33: Days
A34: Comply with 10 year Air Total fire extinguisher overhaul. | D34: 10 | E34: Yr | F34: 44195 | H34: =$F34+3650 -> 47845 | J34: =H34-Main!$G$9 -> 1550 | K34: Days
A35: Comply with 10 year inspection of firewall. | C35: 2 | D35: 10 | E35: Yr | F35: 44455 | H35: =$F35+3650 -> 48105 | J35: =H35-Main!$G$9 -> 1810 | K35: Days
A36: Comply with 10 year landing gear long life inspection. | C36: 40 | D36: 10 | E36: Yr | F36: 44455 | H36: =$F36+3650 -> 48105 | J36: =H36-Main!$G$9 -> 1810 | K36: Days
A37: Comply with 10 year, 10,000 landing electro-hydraulic generator overhaul. | C37: 5 | D37: 10 | E37: Yr | F37: 44455 | H37: =$F37+3650 -> 48105 | J37: =H37-Main!$G$9 -> 1810 | K37: Days
A38: Comply with 10 year, 3,500 hour mechanical fuel pump overhaul. | C38: 3 | D38: 10 | E38: Yr | F38: 44455 | H38: =$F38+3650 -> 48105 | J38: =H38-Main!$G$9 -> 1810 | K38: Days
A39: Comply with 10 year, 5,000 landing gear actuator overhaul. Left | C39: 2 | D39: 10 | E39: Yr | F39: 44455 | H39: =$F39+3650 -> 48105 | J39: =H39-Main!$G$9 -> 1810 | K39: Days
A40: Comply with 10 year, 5,000 landing gear actuator overhaul. Nose | C40: 2 | D40: 10 | E40: Yr | F40: 44455 | H40: =$F40+3650 -> 48105 | J40: =H40-Main!$G$9 -> 1810 | K40: Days
A41: Comply with 10 year, 5,000 landing gear actuator overhaul. Right | C41: 2 | D41: 10 | E41: Yr | F41: 44455 | H41: =$F41+3650 -> 48105 | J41: =H41-Main!$G$9 -> 1810 | K41: Days
A42: Comply with 10 year, 6000 hour vertical inspection | C42: 14 | D42: 10 | E42: Yr | F42: 44455 | H42: =$F42+3650 -> 48105 | J42: =H42-Main!$G$9 -> 1810 | K42: Days
...

Sheet Due List
B1: =Main!D4 & " 2026 " & Main!C20 -> N970TB 2026 A+
B3: Model | D3: SN | F3: Total Time | H3: Hobbs | J3: Cycles | K3: Projected
B4: =Main!C4 -> 940 | D4: =Main!F4 -> 1389 | F4: =Main!C9 -> 1241.2 | H4: =Main!C11 -> 1241.2 | J4: =Main!E9 -> 863 | K4: =Main!G9 -> 46295
H5: OH Due | J5: HSI Due
B6: =Main!C6 -> PT6A-66D | D6: =Main!F6 -> RV0738 | F6: =Main!C23 -> 1241.2 | H6: =Main!F27 -> 2258.8 | J6: =Main!F26 -> 508.8 | K6: Updated
B7: =Main!C7 -> HC-E5N-3C | D7: =Main!F7 -> RJ597 | F7: =Main!C30 -> 1241.2 | H7: =Main!I31& " Days" -> 350 Days | K7: =Main!I11 -> 46282
A9: Description of Time Items and Special Inspections | B9: Parts | C9: Hrs | D9: Labor | F9: Outside Service | H9: Yes/No | I9: Notes
A10: {=_xlfn._xlws.FILTER('Time Items'!A11:C89,'Time Items'!J11:J89<=100)} -> #VALUE! | D10: =IFERROR(C10*175,"") -> 0 | I10: ="Estimated hrs flown "&Main!G11 -> Estimated hrs flown 0
D11: =IFERROR(C11*175,"") -> 0
D12: =IFERROR(C12*175,"") -> 0
D13: =IFERROR(C13*175,"") -> 0
D14: =IFERROR(C14*175,"") -> 0
D15: =IFERROR(C15*175,"") -> 0
D16: =IFERROR(C16*175,"") -> 0
D17: =IFERROR(C17*175,"") -> 0
D18: =IFERROR(C18*175,"") -> 0
D19: =IFERROR(C19*175,"") -> 0
D20: =IFERROR(C20*175,"") -> 0
D21: =IFERROR(C21*175,"") -> 0
D22: =IFERROR(C22*175,"") -> 0
... D44: =IFERROR(C44*175,"") -> 0
A45: Service Bulletins and AD's | D45: =IFERROR(C45*175,"") -> 0
A46: Comply with AD 2025-01-04. Drive Nut Threading Wear in Internal Actuator Flaps, IAW SB70-118 R3 | C46: 0.5 | D46: =IFERROR(C46*175,"") -> 87.5 | I46: Mandatory
A47: Comply with SB70-366-32 Main landing gear inspection. | C47: 1 | D47: =IFERROR(C47*175,"") -> 175 | I47: Mandatory records indicate N/A
A48: Comply with SB70-362-27 Flight control lock pins. Defective pins installed 9/2025 | C48: 1 | D48: =IFERROR(C48*175,"") -> 175 | I48: Recommended
A49: Comply with SB70-351-26-R1 Replacement of the fire extinguisher | D49: =IFERROR(C49*175,"") -> 0 | I49: N/A for non EU flights
A50: Comply with SL70-070-34 MD302 Standby attitude module software update (software version 1.1.3) | C50: 1 | D50: =IFERROR(C50*175,"") -> 175 | I50: Recommended
A51: Comply with SB70-339-32-R1 A14 Landing gear control unit upgrade | B51: 1200 | C51: 1 | D51: =IFERROR(C51*175,"") -> 175 | I51: Recommended
A52: Comply with SB70-260-57-R1 Aileron's brush removal. | C52: 3 | D52: =IFERROR(C52*175,"") -> 525 | I52: Recommended
D53: =IFERROR(C53*175,"") -> 0
D54: =IFERROR(C54*175,"") -> 0
D55: =IFERROR(C55*175,"") -> 0
A56: Discrepancies Found During Inspection | D56: =IFERROR(C56*175,"") -> 0
D57: =IFERROR(C57*175,"") -> 0
D58: =IFERROR(C58*175,"") -> 0
D59: =IFERROR(C59*175,"") -> 0
D60: =IFERROR(C60*175,"") -> 0
D61: =IFERROR(C61*175,"") -> 0
D62: =IFERROR(C62*175,"") -> 0
D63: =IFERROR(C63*175,"") -> 0
...

Sheet SB Master List
A1: Column3 | B1: Bulletin | C1: ATA | D1: TBM 940 N970TB DOM 9/16/2021 | E1: Column1 | F1: EASA AD | G1: FAA AD | H1: Category | I1: Date | J1: Column2 | K1: 1389 | L1: Complied | M1: Notes | N1: Modification No. | O1: Comply with | P1: Warranty | Q1: Parts | R1: Labor
B2: SL70-074-34 | C2: 34 | D2: Erroneous Pitot Probe Heating Status Indication | E2: #VALUE! | I2: 2026-05 | J2: #VALUE! | K2: G1000 NXi | L2: N/A | O2: ="Comply with "&B2&" "&D2 -> Comply with SL70-074-34 Erroneous Pitot Probe Heating Status Indication
B3: SL70-073-25 | C3: 25 | D3: ELT 406 AF KANNAD | E3: #VALUE! | F3: N/A | G3: N/A | I3: 2026-06 | J3: #VALUE! | K3: Kannad ELT p/n S1840501-01 or S1840501-04 | L3: N/A | O3: ="Comply with "&B3&" "&D3 -> Comply with SL70-073-25 ELT 406 AF KANNAD
B4: SL70-071-34 R1 | C4: 34 | D4: Weather Radar | H4: Optional | I4: 2026-03 | K4: 434 to 684 Nxi | L4: N/A | N4: N/A | O4: ="Comply with "&B4&" "&D4 -> Comply with SL70-071-34 R1 Weather Radar
B5: SL70-070-34 | C5: 34 | D5: MD302 Standby attitude module software update (software version 1.1.3) | I5: 2025-11 | K5: 910-960's | N5: N/A | O5: ="Comply with "&B5&" "&D5 -> Comply with SL70-070-34 MD302 Standby attitude module software update (software version 1.1.3) | P5: N | R5: 1
B6: SL70-069-72 | C6: 72 | D6: First-stage power turbine blade | F6: AD CF-2024-33 | G6: N/A | H6: Warning | I6: 2024-06 | L6: 45552 | N6: N/A | O6: ="Comply with "&B6&" "&D6 -> Comply with SL70-069-72 First-stage power turbine blade
B7: SL70-068-32 | C7: 32 | D7: Main wheel assembly P/N 40-489 rupture disc torque | F7: N/A | G7: N | I7: 2024-10 | K7: 205, S/N 240, and from S/N 244 to S/N 1532. Main landing gear wheel assembly from S/N 1000 to S/N 1524. | L7: 45912 | N7: N/A | O7: ="Comply with "&B7&" "&D7 -> Comply with SL70-068-32 Main wheel assembly P/N 40-489 rupture disc torque
B8: SL70-067-72 | C8: 72 | D8: Second-stage power turbine blade | F8: CF-2024-05-E | G8: N/A | H8: Warning | I8: 2024-02 | L8: 45350 | N8: N/A | O8: ="Comply with "&B8&" "&D8 -> Comply with SL70-067-72 Second-stage power turbine blade
B9: SL70-066-34-R4 | C9: 34 | D9: Retrofit of the GTX 345DR (Diversity) Transponder | E9: #VALUE! | F9: N/A | G9: N/A | I9: 2026-01 | K9: TBM 930, TBM 940 and TBM 960 | N9: N/A | O9: ="Comply with "&B9&" "&D9 -> Comply with SL70-066-34-R4 Retrofit of the GTX 345DR (Diversity) Transponder
B10: SIL PT6A-291 | D10: FCU overhaul leading to hung start. | H10: Recommended | I10: 2025-03 | K10: from S/N 1310 to S/N 1312 | L10: N/A | N10: N/A | O10: ="Comply with "&B10&" "&D10 -> Comply with SIL PT6A-291 FCU overhaul leading to hung start.
B11: SB70-366-32 | C11: 32 | D11: Main landing gear inspection. | E11: #VALUE! | H11: Mandatory | I11: 2026-08 | J11: #VALUE! | K11: All | L11: 46290 | O11: ="Comply with "&B11&" "&D11 -> Comply with SB70-366-32 Main landing gear inspection.
B12: SB70-362-27 | D12: Flight control lock pins | H12: Recommended | I12: 2026-05 | K12: 1340 to S/N 1634 with SB70-347-27 applied. 1 to S/N 1339 and from S/N 1635 and above with replaced between 7-2024 and 5-2026 | L12: 46290 | M12: SB70-347 9/12/2025 | N12: Modification No. MOD70-0897-27 | O12: ="Comply with "&B12&" "&D12 -> Comply with SB70-362-27 Flight control lock pins | Q12: 407541 | R12: 1
B13: SB70-360-21 | C13: 21 | D13: ECS Fans upgrade | E13: #VALUE! | F13: N/A | G13: N/A | H13: Recommended | I13: 2026-07 | J13: #VALUE! | K13: 1408-1625 | L13: N/A | O13: ="Comply with "&B13&" "&D13 -> Comply with SB70-360-21 ECS Fans upgrade
B14: SB70-359-92 | C14: 92 | D14: Installation of the flyback diode | E14: #VALUE! | F14: N/A | G14: N/A | H14: Recommended | I14: 2026-01 | K14: 1520 to S/N 1528 which have applied the SB70-342-92 & from S/N 1529 to S/N 1594 | L14: N/A | N14: MOD70-0873-92 Version A. | O14: ="Comply with "&B14&" "&D14 -> Comply with SB70-359-92 Installation of the flyback diode | P14: Y | Q14: OPT70K359-00 (Daher reference 7325700) | R14: 2
B15: SB70-358-92-R1 | C15: 92 | D15: Lift transducer improvement | F15: N/A | G15: N/A | H15: Recommended | I15: 2026-07 | K15: 930/940/960/980 1430 to S/N 1601 except S/N 1599. If stall was replaced 1111 to S/N 1429 and S/N 1599 and S/N 1602 and above only | L15: N/A | O15: ="Comply with "&B15&" "&D15 -> Comply with SB70-358-92-R1 Lift transducer improvement
B16: SB70-356-76 | D16: Replacement of E-pedestal control set | H16: Recommended | I16: 2025-03 | K16: 1558 to S/N 1576 except SN 1559 and S/N 1560 | L16: N/A | N16: N/A | O16: ="Comply with "&B16&" "&D16 -> Comply with SB70-356-76 Replacement of E-pedestal control set
B17: SB70-355-34 R1 | C17: 34 | D17: Garmin G1000 NXI GDU software version V20.98 (P/N 006-B4560-01) | E17: #VALUE! | F17: N/A | G17: N/A | H17: Recommended | I17: 2026-04 | K17: TBM 850 G1000 NXi aircraft from S/N 434 to S/N 684 which have GDU software version V20.80 (P/N 006-B3086-00) loaded through the application of SB70-247-34 in the latest revision. TBM 900 G1000 NXi aircraft S/N 687, from S/N 1000 to S/N 1049 which have GDU software version V20.80 (P/N 006-B3086-00) loaded through the application of SB70-247-34 in the latest revision and which have not applied the SB70-311-71 (“PT6A-66D ENGINE REPLACEMENT”). NOTE: For aircraft from S/N 434 to S/N 607, it is mandatory to have applied the SB70-276-34 (“GWX 68 wiring improvement”) before the application of this Service Bulletin. | L17: N/A | N17: MOD70-0258-00 Version K, MOD70-0539-00 Version N. | O17: ="Comply with "&B17&" "&D17 -> Comply with SB70-355-34 R1 Garmin G1000 NXI GDU software version V20.98 (P/N 006-B4560-01)
B18: SB70-353-34 R1 | C18: 34 | D18: GWX75 Weather Radar Installation | H18: Optional | I18: 2026-03 | K18: 434 to 684 Nxi | L18: N/A | N18: MOD70-0675-34 Version C | O18: ="Comply with "&B18&" "&D18 -> Comply with SB70-353-34 R1 GWX75 Weather Radar Installation
B19: SB70-352-34 R1 | C19: 34 | D19: “GWX8000 Weather Radar” Functions | H19: Optional | I19: 2026-03 | K19: 434 to 684 Nxi | L19: N/A | N19: MOD70-0675-34 Version B | O19: ="Comply with "&B19&" "&D19 -> Comply with SB70-352-34 R1 “GWX8000 Weather Radar” Functions
B20: SB70-351-26-R1 | C20: 26 | D20: Replacement of the fire extinguisher | E20: #VALUE! | H20: Recommended | I20: 2026-02 | K20: 1 to 1625 | N20: MOD70-0857-26 Versions A, B, C and D | O20: ="Comply with "&B20&" "&D20 -> Comply with SB70-351-26-R1 Replacement of the fire extinguisher | P20: N | Q20: 2200 | R20: 1
B21: SB70-348-28 | C21: 28 | D21: MT40 Fuel Pressure Transmitter Replacement | F21: N/A | G21: N/A | H21: Optional | I21: 2024-11 | K21: 1 to S/N 22 and from S/N 24 to S/N 92 which have applied the SB70-041-28. TBM aircraft S/N 23 and S/N 93 to S/N 684. | L21: N/A | N21: MOD70-0840-28 Version A. | O21: ="Comply with "&B21&" "&D21 -> Comply with SB70-348-28 MT40 Fuel Pressure Transmitter Replacement | Q21: TPT-DA-DX-AV-P100G36 | R21: 2
B22: SB70-347-27-R1 | C22: 27 | D22: Flight Control Lock Pins | E22: #VALUE! | F22: N/A | G22: N/A | H22: Recommended | I22: 2026-06 | J22: #VALUE! | K22: 1340-1392 | L22: Terminated | M22: 45912 | N22: N/A | O22: ="Comply with "&B22&" "&D22 -> Comply with SB70-347-27-R1 Flight Control Lock Pins
B23: SB70-346-24-R1 | D23: Replacement of circuit breaker amperage on the PL1 panel | H23: Recommended | I23: 2025-05 | K23: 1560 to S/N 1577 | L23: N/A | N23: MOD70-0820-33 Version F. | O23: ="Comply with "&B23&" "&D23 -> Comply with SB70-346-24-R1 Replacement of circuit breaker amperage on the PL1 panel | P23: If under | R23: 10
B24: SB70-345-46 | D24: TBM 960 Cas/synoptic | H24: Optional | I24: 2025-03 | K24: 1408-1559 with 7.4.2 loaded | L24: N/A | N24: MOD70-807-46 Version A | O24: ="Comply with "&B24&" "&D24 -> Comply with SB70-345-46 TBM 960 Cas/synoptic | P24: Y 1520-1559 | R24: 5
B25: SB70-344-34-R2 | D25: Garmin Software update 7.4.2 Rev 1 | H25: Recommended | I25: 2025-03 | K25: 1408 to 1559 | L25: N/A | N25: MOD70-0753-00 Version G. | O25: ="Comply with "&B25&" "&D25 -> Comply with SB70-344-34-R2 Garmin Software update 7.4.2 Rev 1 | P25: Y | R25: 5
B26: SB70-342-92-R1 | C26: 92 | D26: “ANCILL” switch on the PL12 panel for TBM 960 | E26: #VALUE! | F26: N/A | G26: N/A | H26: Recommended | I26: 2026-01 | K26: 1520 to S/N 1528. | L26: N/A | N26: MOD70−0832−92 Version C | O26: ="Comply with "&B26&" "&D26 -> Comply with SB70-342-92-R1 “ANCILL” switch on the PL12 panel for TBM 960 | P26: Y | Q26: Check SB | R26: 7.5
B27: SB70-341-92 | C27: 92 | D27: Electrical Sockets Replacement | F27: N/A | G27: N/A | H27: Recommended | I27: 2024-12 | K27: 1539 to S/N 1561 except S/N 1558 | L27: N/A | N27: N/A | O27: ="Comply with "&B27&" "&D27 -> Comply with SB70-341-92 Electrical Sockets Replacement
B28: SB70-340-32-R2 | C28: 32 | D28: Electro-Hydraulic Generator Plug Replacement | E28: #VALUE! | F28: N/A | G28: N/A | H28: Recommended | I28: 2026-07 | J28: #VALUE! | K28: TBM aircraft equipped with electro-hydraulic generator P/N CEN-S001672 and Serial Number (S/N) from S/N 12 to S/N 30, from S/N 32 to S/N 33, from S/N 35 to S/N 41, from S/N 45 to S/N 50, from S/N 52 to S/N 55, from S/N 57 to S/N 67, from S/N 69 to S/N 74, from S/N 76 to S/N 80. | L28: N/A | O28: ="Comply with "&B28&" "&D28 -> Comply with SB70-340-32-R2 Electro-Hydraulic Generator Plug Replacement
B29: SB70-339-32-R1 | C29: 32 | D29: A14 Landing gear control unit upgrade | E29: #VALUE! | F29: N/A | G29: N/A | H29: Recommended | I29: 2025-11 | K29: 1000 to 1520 | L29: 46290 | N29: MOD70-0836-32 Version A. | O29: ="Comply with "&B29&" "&D29 -> Comply with SB70-339-32-R1 A14 Landing gear control unit upgrade | Q29: 1200 | R29: 1
B30: SB70-337-76 | C30: 76 | D30: Pedestal control set improvement | F30: N/A | G30: N/A | H30: Recommended | I30: 2024-12 | K30: 687 to 1407 and S/N 1464 | L30: 45912 | N30: N/A | O30: ="Comply with "&B30&" "&D30 -> Comply with SB70-337-76 Pedestal control set improvement | R30: 1.5
B31: SB70-336-35 | C31: 35 | D31: TBM 960 Cockpit oxygen masks. | F31: N/A | G31: N/A | H31: Recommended | I31: 2025-04 | K31: 1546 to S/N 1550, from S/N 1553 to S/N 1558,from S/N 1560 to 1561. | L31: N/A | M31: Check table in SB | N31: N/A | O31: ="Comply with "&B31&" "&D31 -> Comply with SB70-336-35 TBM 960 Cockpit oxygen masks. | P31: Y | R31: 2
B32: SB70-335-34-R1 | C32: 34 | D32: Garmin G1000 NXi GDU Software version V20.98 (P/N 006-B4560-00) | F32: N/A | G32: N/A | H32: Recommended | I32: 2024-11 | K32: 1050 to S/N 1159. 1170 to S/N 1269. | L32: N/A | N32: MOD70-0258-00 Version K, MOD70-0539-00 Version L and Version M. | O32: ="Comply with "&B32&" "&D32 -> Comply with SB70-335-34-R1 Garmin G1000 NXi GDU Software version V20.98 (P/N 006-B4560-00) | R32: 8
B33: SB70-334-34-R3 | C33: 34 | D33: Retrofit of the GTX 345DR (Diversity) Transponder | E33: #VALUE! | F33: N/A | G33: N/A | H33: Optional | I33: 2026-01 | K33: 850's and up | N33: MOD70-0819-34 Versions B and C. | O33: ="Comply with "&B33&" "&D33 -> Comply with SB70-334-34-R3 Retrofit of the GTX 345DR (Diversity) Transponder
B34: SB70-333-53 | C34: 53 | D34: Windshield lower cover strip. | F34: N/A | G34: N/A | H34: Recommended | I34: 2025-10 | K34: 1 to S/N 1502. | L34: Suspended | M34: Suspended | O34: ="Comply with "&B34&" "&D34 -> Comply with SB70-333-53 Windshield lower cover strip.
B35: SB70-332-21-R1 | C35: 21 | D35: L10 Flow Control Valve Replacement in the Engine Bleed Air System | F35: N/A | G35: N/A | H35: Recommended | I35: 2023-12 | K35: 1408 to S/N 1476 | L35: N/A | N35: N/A | O35: ="Comply with "&B35&" "&D35 -> Comply with SB70-332-21-R1 L10 Flow Control Valve Replacement in the Engine Bleed Air System
B36: SB70-331-21 | C36: 21 | D36: Vapor Cycle System (VCS) Performance | F36: N/A | G36: N/A | H36: Recommended | I36: 2023-05 | K36: 1408 to S/N 1477 | L36: N/A | N36: MOD70-0811-21 Version A | O36: ="Comply with "&B36&" "&D36 -> Comply with SB70-331-21 Vapor Cycle System (VCS) Performance | R36: 5
B37: SB70-330-34-R1 | C37: 34 | D37: Garmin G3000 GDU Software “System Release 7.1.5” (GDU Version V32.01.40) (SW P/N 006-B4304-05) | F37: N/A | G37: N/A | H37: Recommended | I37: 2024-05 | K37: 1408 to S/N 1512 | L37: Suspended | N37: Suspended. Replaced by 70-344 | O37: ="Comply with "&B37&" "&D37 -> Comply with SB70-330-34-R1 Garmin G3000 GDU Software “System Release 7.1.5” (GDU Version V32.01.40) (SW P/N 006-B4304-05)
B38: SB70-329-33 | C38: 33 | D38: Halogen emergency light replacement. | F38: N/A | G38: N/A | H38: Optional | I38: 2025-04 | K38: 434 to S/N 1407. | N38: MOD70-0830-33 Version A. | O38: ="Comply with "&B38&" "&D38 -> Comply with SB70-329-33 Halogen emergency light replacement. | P38: N | Q38: 3300 | R38: 8
B39: SB70-328-24-R1 | C39: 24 | D39: Battery Discharging on TBM 960 Aircraft | F39: N/A | G39: N/A | H39: Recommended | I39: 2024-06 | K39: 1408 to S/N 1519 | L39: N/A | N39: MOD70−0827−92 ver B, MOD70−0760−46 ver C | O39: ="Comply with "&B39&" "&D39 -> Comply with SB70-328-24-R1 Battery Discharging on TBM 960 Aircraft
B40: SB70-327-27 | C40: 27 | D40: Replacement of the Control Wheel Elevator Trim Switch | F40: N/A | G40: N/A | H40: Recommended | I40: 2024-04 | K40: 1296 to S/N 1416 | L40: 45547 | N40: N/A | O40: ="Comply with "&B40&" "&D40 -> Comply with SB70-327-27 Replacement of the Control Wheel Elevator Trim Switch
...
